BEGIN:VCALENDAR
VERSION:2.0
PRODID:-//anthroposophie.de - ECPv6.10.1.1//NONSGML v1.0//EN
CALSCALE:GREGORIAN
METHOD:PUBLISH
X-ORIGINAL-URL:https://www.anthroposophie.de
X-WR-CALDESC:Veranstaltungen für anthroposophie.de
REFRESH-INTERVAL;VALUE=DURATION:PT1H
X-Robots-Tag:noindex
X-PUBLISHED-TTL:PT1H
BEGIN:VTIMEZONE
TZID:Europe/Zurich
BEGIN:DAYLIGHT
TZOFFSETFROM:+0100
TZOFFSETTO:+0200
TZNAME:CEST
DTSTART:20250330T010000
END:DAYLIGHT
BEGIN:STANDARD
TZOFFSETFROM:+0200
TZOFFSETTO:+0100
TZNAME:CET
DTSTART:20251026T010000
END:STANDARD
END:VTIMEZONE
BEGIN:VEVENT
DTSTART;TZID=Europe/Zurich:20250221T200000
DTEND;TZID=Europe/Zurich:20250221T213000
DTSTAMP:20260423T114400
CREATED:20241221T134039Z
LAST-MODIFIED:20250128T093756Z
UID:10000036-1740168000-1740173400@www.anthroposophie.de
SUMMARY:"La Vida" Sprich aus der Zukunft
DESCRIPTION:Wir\, der AGiD-Zweig Bielefeld\, mit Unterstützung befreundeter anthroposophischer Einrichtungen\, werden im Festjahr 2025 das Goetheanum Eurythmie Ensemble (Schweiz) an diesem Tag mit ihrem Programm „LaVida“ zu Gast haben. \nWir freuen uns\, dass wir diese Eurythmie-Aufführung im Saal der Rudolf Steiner Schule Bielefeld zeigen können. \nUnter https://gee.goetheanum.ch/tournee können Sie farbliche Eindrücke zum Programm finden. \nRudolf Steiner hat diese besondere Bewegungskunst begründet und diese wird seit über 100 Jahren als eigenständige darstellende Kunst und als Teil von Bühneninszenierungen betrieben. In den Waldorfschulen gehört Eurythmie zum Lehrplan. Als weiteres Standbein gilt Heileurythmie im Rahmen der anthroposophischen Medizin als eine alternative Heilmethode.
URL:https://www.anthroposophie.de/veranstaltungen/la-vida-sprich-aus-der-zukunft-goetheanum-eurythmie-ensembel/
LOCATION:Rudolf Steiner Schule Bielefeld\, An der Propstei 23\, Bielefeld\, NRW\, 33611
ATTACH;FMTTYPE=image/jpeg:https://www.anthroposophie.de/wp-content/uploads/2024/12/2025-02-21-La-Vida--e1734775281783.jpg
ORGANIZER;CN="Anthroposophische Gesellschaft Zweig Bielefeld":MAILTO:zweig-bielefeld@posteo.de
END:VEVENT
END:VCALENDAR